BEGIN:VCALENDAR
VERSION:2.0
PRODID:-// - ECPv6.15.20//NONSGML v1.0//EN
CALSCALE:GREGORIAN
METHOD:PUBLISH
X-ORIGINAL-URL:https://www.pembrokeshiremotorcycleclub.co.uk
X-WR-CALDESC:Events for 
REFRESH-INTERVAL;VALUE=DURATION:PT1H
X-Robots-Tag:noindex
X-PUBLISHED-TTL:PT1H
BEGIN:VTIMEZONE
TZID:Europe/London
BEGIN:DAYLIGHT
TZOFFSETFROM:+0000
TZOFFSETTO:+0100
TZNAME:BST
DTSTART:20230326T010000
END:DAYLIGHT
BEGIN:STANDARD
TZOFFSETFROM:+0100
TZOFFSETTO:+0000
TZNAME:GMT
DTSTART:20231029T010000
END:STANDARD
BEGIN:DAYLIGHT
TZOFFSETFROM:+0000
TZOFFSETTO:+0100
TZNAME:BST
DTSTART:20240331T010000
END:DAYLIGHT
BEGIN:STANDARD
TZOFFSETFROM:+0100
TZOFFSETTO:+0000
TZNAME:GMT
DTSTART:20241027T010000
END:STANDARD
BEGIN:DAYLIGHT
TZOFFSETFROM:+0000
TZOFFSETTO:+0100
TZNAME:BST
DTSTART:20250330T010000
END:DAYLIGHT
BEGIN:STANDARD
TZOFFSETFROM:+0100
TZOFFSETTO:+0000
TZNAME:GMT
DTSTART:20251026T010000
END:STANDARD
END:VTIMEZONE
BEGIN:VEVENT
DTSTART;TZID=Europe/London:20240328T103000
DTEND;TZID=Europe/London:20240328T123000
DTSTAMP:20260424T085635
CREATED:20240310T132128Z
LAST-MODIFIED:20240314T182151Z
UID:111-1711621800-1711629000@www.pembrokeshiremotorcycleclub.co.uk
SUMMARY:Nevern Breakfast Meeting
DESCRIPTION:You need to be logged in to view this content. Please Log In. Not a Member? Join Us
URL:https://www.pembrokeshiremotorcycleclub.co.uk/event/nevern-breakfast-meeting/
LOCATION:Trewern Arms Hotel\, Nevern\, Pembrokeshire\, SA42 0NB\, United Kingdom
END:VEVENT
BEGIN:VEVENT
DTSTART;TZID=Europe/London:20240321T103000
DTEND;TZID=Europe/London:20240321T120000
DTSTAMP:20260424T085635
CREATED:20240310T131601Z
LAST-MODIFIED:20240314T182215Z
UID:107-1711017000-1711022400@www.pembrokeshiremotorcycleclub.co.uk
SUMMARY:Scolton Manor Breakfast Meeting
DESCRIPTION:You need to be logged in to view this content. Please Log In. Not a Member? Join Us
URL:https://www.pembrokeshiremotorcycleclub.co.uk/event/scolton-manor-breakfast-meeting/
LOCATION:Pembrokeshire
END:VEVENT
BEGIN:VEVENT
DTSTART;TZID=Europe/London:20240314T103000
DTEND;TZID=Europe/London:20240314T120000
DTSTAMP:20260424T085635
CREATED:20240310T124537Z
LAST-MODIFIED:20240314T182237Z
UID:78-1710412200-1710417600@www.pembrokeshiremotorcycleclub.co.uk
SUMMARY:Cosheston Breakfast Meeting
DESCRIPTION:You need to be logged in to view this content. Please Log In. Not a Member? Join Us
URL:https://www.pembrokeshiremotorcycleclub.co.uk/event/scolton-manor-breakfast/
LOCATION:Cosheston Garden Centre\, A40 Cosheston\, Cosheston\, Pembrokeshire\, SA72 4UJ\, United Kingdom
END:VEVENT
BEGIN:VEVENT
DTSTART;TZID=Europe/London:20240312T193000
DTEND;TZID=Europe/London:20240312T210000
DTSTAMP:20260424T085635
CREATED:20240310T145921Z
LAST-MODIFIED:20240314T182259Z
UID:131-1710271800-1710277200@www.pembrokeshiremotorcycleclub.co.uk
SUMMARY:Club Meeting
DESCRIPTION:You need to be logged in to view this content. Please Log In. Not a Member? Join Us
URL:https://www.pembrokeshiremotorcycleclub.co.uk/event/club-meeting/
LOCATION:Haverfordwest Cricket Club\, Dale Road\, Haverfordwest\, Pembrokeshire\, SA61 1HZ\, United Kingdom
END:VEVENT
END:VCALENDAR