BEGIN:VCALENDAR
VERSION:2.0
PRODID:-// - ECPv6.15.20//NONSGML v1.0//EN
CALSCALE:GREGORIAN
METHOD:PUBLISH
X-ORIGINAL-URL:https://www.pembrokeshiremotorcycleclub.co.uk
X-WR-CALDESC:Events for 
REFRESH-INTERVAL;VALUE=DURATION:PT1H
X-Robots-Tag:noindex
X-PUBLISHED-TTL:PT1H
BEGIN:VTIMEZONE
TZID:Europe/London
BEGIN:DAYLIGHT
TZOFFSETFROM:+0000
TZOFFSETTO:+0100
TZNAME:BST
DTSTART:20230326T010000
END:DAYLIGHT
BEGIN:STANDARD
TZOFFSETFROM:+0100
TZOFFSETTO:+0000
TZNAME:GMT
DTSTART:20231029T010000
END:STANDARD
BEGIN:DAYLIGHT
TZOFFSETFROM:+0000
TZOFFSETTO:+0100
TZNAME:BST
DTSTART:20240331T010000
END:DAYLIGHT
BEGIN:STANDARD
TZOFFSETFROM:+0100
TZOFFSETTO:+0000
TZNAME:GMT
DTSTART:20241027T010000
END:STANDARD
BEGIN:DAYLIGHT
TZOFFSETFROM:+0000
TZOFFSETTO:+0100
TZNAME:BST
DTSTART:20250330T010000
END:DAYLIGHT
BEGIN:STANDARD
TZOFFSETFROM:+0100
TZOFFSETTO:+0000
TZNAME:GMT
DTSTART:20251026T010000
END:STANDARD
END:VTIMEZONE
BEGIN:VEVENT
DTSTART;TZID=Europe/London:20240905T103000
DTEND;TZID=Europe/London:20240905T120000
DTSTAMP:20260425T153326
CREATED:20240810T091920Z
LAST-MODIFIED:20240810T091920Z
UID:361-1725532200-1725537600@www.pembrokeshiremotorcycleclub.co.uk
SUMMARY:Scolton Manor Breakfast Meeting
DESCRIPTION:You need to be logged in to view this content. Please Log In. Not a Member? Join Us
URL:https://www.pembrokeshiremotorcycleclub.co.uk/event/scolton-manor-breakfast-meeting-12/
LOCATION:Scolton Manor\, Bethlehem\, Haverfordwest\, Pembrokeshire\, SA62 5QL\, United Kingdom
END:VEVENT
BEGIN:VEVENT
DTSTART;TZID=Europe/London:20240912T103000
DTEND;TZID=Europe/London:20240912T120000
DTSTAMP:20260425T153326
CREATED:20240810T092534Z
LAST-MODIFIED:20240810T092534Z
UID:369-1726137000-1726142400@www.pembrokeshiremotorcycleclub.co.uk
SUMMARY:Cosheston Breakfast Meeting
DESCRIPTION:You need to be logged in to view this content. Please Log In. Not a Member? Join Us
URL:https://www.pembrokeshiremotorcycleclub.co.uk/event/cosheston-breakfast-meeting-6/
LOCATION:Cosheston Garden Centre\, A40 Cosheston\, Cosheston\, Pembrokeshire\, SA72 4UJ\, United Kingdom
END:VEVENT
BEGIN:VEVENT
DTSTART;TZID=Europe/London:20240919T103000
DTEND;TZID=Europe/London:20240919T120000
DTSTAMP:20260425T153326
CREATED:20240810T092041Z
LAST-MODIFIED:20240810T092041Z
UID:363-1726741800-1726747200@www.pembrokeshiremotorcycleclub.co.uk
SUMMARY:Scolton Manor Breakfast Meeting
DESCRIPTION:You need to be logged in to view this content. Please Log In. Not a Member? Join Us
URL:https://www.pembrokeshiremotorcycleclub.co.uk/event/scolton-manor-breakfast-meeting-13/
LOCATION:Scolton Manor\, Bethlehem\, Haverfordwest\, Pembrokeshire\, SA62 5QL\, United Kingdom
END:VEVENT
BEGIN:VEVENT
DTSTART;TZID=Europe/London:20240926T103000
DTEND;TZID=Europe/London:20240926T120000
DTSTAMP:20260425T153326
CREATED:20240810T092341Z
LAST-MODIFIED:20240810T092341Z
UID:367-1727346600-1727352000@www.pembrokeshiremotorcycleclub.co.uk
SUMMARY:Nevern Breakfast Meeting
DESCRIPTION:You need to be logged in to view this content. Please Log In. Not a Member? Join Us
URL:https://www.pembrokeshiremotorcycleclub.co.uk/event/nevern-breakfast-meeting-8/
LOCATION:Trewern Arms Hotel\, Nevern\, Pembrokeshire\, SA42 0NB\, United Kingdom
END:VEVENT
END:VCALENDAR