BEGIN:VCALENDAR
VERSION:2.0
PRODID:-// - ECPv6.15.20//NONSGML v1.0//EN
CALSCALE:GREGORIAN
METHOD:PUBLISH
X-ORIGINAL-URL:https://www.pembrokeshiremotorcycleclub.co.uk
X-WR-CALDESC:Events for 
REFRESH-INTERVAL;VALUE=DURATION:PT1H
X-Robots-Tag:noindex
X-PUBLISHED-TTL:PT1H
BEGIN:VTIMEZONE
TZID:Europe/London
BEGIN:DAYLIGHT
TZOFFSETFROM:+0000
TZOFFSETTO:+0100
TZNAME:BST
DTSTART:20240331T010000
END:DAYLIGHT
BEGIN:STANDARD
TZOFFSETFROM:+0100
TZOFFSETTO:+0000
TZNAME:GMT
DTSTART:20241027T010000
END:STANDARD
BEGIN:DAYLIGHT
TZOFFSETFROM:+0000
TZOFFSETTO:+0100
TZNAME:BST
DTSTART:20250330T010000
END:DAYLIGHT
BEGIN:STANDARD
TZOFFSETFROM:+0100
TZOFFSETTO:+0000
TZNAME:GMT
DTSTART:20251026T010000
END:STANDARD
BEGIN:DAYLIGHT
TZOFFSETFROM:+0000
TZOFFSETTO:+0100
TZNAME:BST
DTSTART:20260329T010000
END:DAYLIGHT
BEGIN:STANDARD
TZOFFSETFROM:+0100
TZOFFSETTO:+0000
TZNAME:GMT
DTSTART:20261025T010000
END:STANDARD
END:VTIMEZONE
BEGIN:VEVENT
DTSTART;TZID=Europe/London:20250101T103000
DTEND;TZID=Europe/London:20250101T140000
DTSTAMP:20260423T035140
CREATED:20241222T160251Z
LAST-MODIFIED:20241230T160032Z
UID:488-1735727400-1735740000@www.pembrokeshiremotorcycleclub.co.uk
SUMMARY:New Years Day Ride
DESCRIPTION:You need to be logged in to view this content. Please Log In. Not a Member? Join Us
URL:https://www.pembrokeshiremotorcycleclub.co.uk/event/new-years-day-run/
LOCATION:Merlins Motorcyles\, Tan Bank\, Prendergast\, Haverfordwest\, Pembrokeshire\, SA61 2QQ\, United Kingdom
ORGANIZER;CN="James Adams":MAILTO: jamesadams916@hotmail.co.uk
END:VEVENT
BEGIN:VEVENT
DTSTART;TZID=Europe/London:20250109T103000
DTEND;TZID=Europe/London:20250109T120000
DTSTAMP:20260423T035140
CREATED:20241211T175146Z
LAST-MODIFIED:20241211T175146Z
UID:480-1736418600-1736424000@www.pembrokeshiremotorcycleclub.co.uk
SUMMARY:Cosheston Breakfast Meeting
DESCRIPTION:You need to be logged in to view this content. Please Log In. Not a Member? Join Us
URL:https://www.pembrokeshiremotorcycleclub.co.uk/event/cosheston-breakfast-meeting-11/
LOCATION:Cosheston Garden Centre\, A40 Cosheston\, Cosheston\, Pembrokeshire\, SA72 4UJ\, United Kingdom
END:VEVENT
BEGIN:VEVENT
DTSTART;TZID=Europe/London:20250114T193000
DTEND;TZID=Europe/London:20250114T220000
DTSTAMP:20260423T035140
CREATED:20241222T160612Z
LAST-MODIFIED:20241222T160612Z
UID:494-1736883000-1736892000@www.pembrokeshiremotorcycleclub.co.uk
SUMMARY:PVCMC Club Meeting
DESCRIPTION:You need to be logged in to view this content. Please Log In. Not a Member? Join Us
URL:https://www.pembrokeshiremotorcycleclub.co.uk/event/pvcmc-club-meeting/
LOCATION:Haverfordwest Cricket Club\, Dale Road\, Haverfordwest\, Pembrokeshire\, SA61 1HZ\, United Kingdom
END:VEVENT
BEGIN:VEVENT
DTSTART;TZID=Europe/London:20250116T103000
DTEND;TZID=Europe/London:20250116T120000
DTSTAMP:20260423T035140
CREATED:20241211T174955Z
LAST-MODIFIED:20241211T174955Z
UID:478-1737023400-1737028800@www.pembrokeshiremotorcycleclub.co.uk
SUMMARY:Scolton Manor Breakfast Meeting
DESCRIPTION:You need to be logged in to view this content. Please Log In. Not a Member? Join Us
URL:https://www.pembrokeshiremotorcycleclub.co.uk/event/scolton-manor-breakfast-meeting-19/
LOCATION:Scolton Manor\, Bethlehem\, Haverfordwest\, Pembrokeshire\, SA62 5QL\, United Kingdom
END:VEVENT
BEGIN:VEVENT
DTSTART;TZID=Europe/London:20250123T103000
DTEND;TZID=Europe/London:20250123T120000
DTSTAMP:20260423T035140
CREATED:20250119T201711Z
LAST-MODIFIED:20250119T202039Z
UID:553-1737628200-1737633600@www.pembrokeshiremotorcycleclub.co.uk
SUMMARY:Victoria Inn Breakfast Meeting
DESCRIPTION:You need to be logged in to view this content. Please Log In. Not a Member? Join Us
URL:https://www.pembrokeshiremotorcycleclub.co.uk/event/victoria-inn-breakfast-meeting/
LOCATION:Pembrokeshire
END:VEVENT
BEGIN:VEVENT
DTSTART;TZID=Europe/London:20250130T103000
DTEND;TZID=Europe/London:20250130T120000
DTSTAMP:20260423T035140
CREATED:20241222T164615Z
LAST-MODIFIED:20250116T191754Z
UID:514-1738233000-1738238400@www.pembrokeshiremotorcycleclub.co.uk
SUMMARY:Tafarn Sinc Breakfast Meeting
DESCRIPTION:You need to be logged in to view this content. Please Log In. Not a Member? Join Us
URL:https://www.pembrokeshiremotorcycleclub.co.uk/event/cosheston-extra-breakfast-meeting/
LOCATION:Tafarn Sinc\, Rosebush\, Maenclochog\, Clunderwen\, Pembrokeshire\, SA66 7QU\, United Kingdom
END:VEVENT
END:VCALENDAR