BEGIN:VCALENDAR
VERSION:2.0
PRODID:-// - ECPv6.15.20//NONSGML v1.0//EN
CALSCALE:GREGORIAN
METHOD:PUBLISH
X-ORIGINAL-URL:https://www.pembrokeshiremotorcycleclub.co.uk
X-WR-CALDESC:Events for 
REFRESH-INTERVAL;VALUE=DURATION:PT1H
X-Robots-Tag:noindex
X-PUBLISHED-TTL:PT1H
BEGIN:VTIMEZONE
TZID:Europe/London
BEGIN:DAYLIGHT
TZOFFSETFROM:+0000
TZOFFSETTO:+0100
TZNAME:BST
DTSTART:20240331T010000
END:DAYLIGHT
BEGIN:STANDARD
TZOFFSETFROM:+0100
TZOFFSETTO:+0000
TZNAME:GMT
DTSTART:20241027T010000
END:STANDARD
BEGIN:DAYLIGHT
TZOFFSETFROM:+0000
TZOFFSETTO:+0100
TZNAME:BST
DTSTART:20250330T010000
END:DAYLIGHT
BEGIN:STANDARD
TZOFFSETFROM:+0100
TZOFFSETTO:+0000
TZNAME:GMT
DTSTART:20251026T010000
END:STANDARD
BEGIN:DAYLIGHT
TZOFFSETFROM:+0000
TZOFFSETTO:+0100
TZNAME:BST
DTSTART:20260329T010000
END:DAYLIGHT
BEGIN:STANDARD
TZOFFSETFROM:+0100
TZOFFSETTO:+0000
TZNAME:GMT
DTSTART:20261025T010000
END:STANDARD
END:VTIMEZONE
BEGIN:VEVENT
DTSTART;TZID=Europe/London:20250605T103000
DTEND;TZID=Europe/London:20250605T120000
DTSTAMP:20260422T203218
CREATED:20250510T194241Z
LAST-MODIFIED:20250510T194241Z
UID:679-1749119400-1749124800@www.pembrokeshiremotorcycleclub.co.uk
SUMMARY:Scolton Manor Breakfast Meeting
DESCRIPTION:You need to be logged in to view this content. Please Log In. Not a Member? Join Us
URL:https://www.pembrokeshiremotorcycleclub.co.uk/event/scolton-manor-breakfast-meeting-28/
LOCATION:Scolton Manor\, Bethlehem\, Haverfordwest\, Pembrokeshire\, SA62 5QL\, United Kingdom
END:VEVENT
BEGIN:VEVENT
DTSTART;VALUE=DATE:20250607
DTEND;VALUE=DATE:20250608
DTSTAMP:20260422T203218
CREATED:20250130T182100Z
LAST-MODIFIED:20250130T182100Z
UID:586-1749254400-1749340799@www.pembrokeshiremotorcycleclub.co.uk
SUMMARY:Caldey Classic Motorcycle Run
DESCRIPTION:You need to be logged in to view this content. Please Log In. Not a Member? Join Us
URL:https://www.pembrokeshiremotorcycleclub.co.uk/event/caldey-classic-motorcycle-run/
LOCATION:Dingle Inn Narberth\, Jesse Rd\, Narberth\, Pembrokeshire\, SA67 7DP\, United Kingdom
END:VEVENT
BEGIN:VEVENT
DTSTART;TZID=Europe/London:20250610T103000
DTEND;TZID=Europe/London:20250610T120000
DTSTAMP:20260422T203218
CREATED:20250510T194923Z
LAST-MODIFIED:20250510T194923Z
UID:687-1749551400-1749556800@www.pembrokeshiremotorcycleclub.co.uk
SUMMARY:PVCMC Club Meeting
DESCRIPTION:You need to be logged in to view this content. Please Log In. Not a Member? Join Us
URL:https://www.pembrokeshiremotorcycleclub.co.uk/event/pvcmc-club-meeting-5/
LOCATION:Haverfordwest Cricket Club\, Dale Road\, Haverfordwest\, Pembrokeshire\, SA61 1HZ\, United Kingdom
END:VEVENT
BEGIN:VEVENT
DTSTART;TZID=Europe/London:20250612T103000
DTEND;TZID=Europe/London:20250612T120000
DTSTAMP:20260422T203218
CREATED:20250510T194532Z
LAST-MODIFIED:20250510T194532Z
UID:683-1749724200-1749729600@www.pembrokeshiremotorcycleclub.co.uk
SUMMARY:Cosheston Breakfast Meeting
DESCRIPTION:You need to be logged in to view this content. Please Log In. Not a Member? Join Us
URL:https://www.pembrokeshiremotorcycleclub.co.uk/event/cosheston-breakfast-meeting-16/
LOCATION:Cosheston Garden Centre\, A40 Cosheston\, Cosheston\, Pembrokeshire\, SA72 4UJ\, United Kingdom
END:VEVENT
BEGIN:VEVENT
DTSTART;TZID=Europe/London:20250619T103000
DTEND;TZID=Europe/London:20250619T120000
DTSTAMP:20260422T203218
CREATED:20250510T194407Z
LAST-MODIFIED:20250510T194407Z
UID:681-1750329000-1750334400@www.pembrokeshiremotorcycleclub.co.uk
SUMMARY:Scolton Manor Breakfast Meeting
DESCRIPTION:You need to be logged in to view this content. Please Log In. Not a Member? Join Us
URL:https://www.pembrokeshiremotorcycleclub.co.uk/event/scolton-manor-breakfast-meeting-29/
LOCATION:Scolton Manor\, Bethlehem\, Haverfordwest\, Pembrokeshire\, SA62 5QL\, United Kingdom
END:VEVENT
BEGIN:VEVENT
DTSTART;TZID=Europe/London:20250626T103000
DTEND;TZID=Europe/London:20250626T120000
DTSTAMP:20260422T203218
CREATED:20250510T194716Z
LAST-MODIFIED:20250510T194716Z
UID:685-1750933800-1750939200@www.pembrokeshiremotorcycleclub.co.uk
SUMMARY:Victoria Inn Breakfast Meeting
DESCRIPTION:You need to be logged in to view this content. Please Log In. Not a Member? Join Us
URL:https://www.pembrokeshiremotorcycleclub.co.uk/event/victoria-inn-breakfast-meeting-3/
LOCATION:Victoria Inn\, Victoria Inn\, Roch\, Pembrokeshire\, SA62 6AW\, United Kingdom
END:VEVENT
END:VCALENDAR