BEGIN:VCALENDAR
VERSION:2.0
PRODID:-// - ECPv6.15.20//NONSGML v1.0//EN
CALSCALE:GREGORIAN
METHOD:PUBLISH
X-ORIGINAL-URL:https://www.pembrokeshiremotorcycleclub.co.uk
X-WR-CALDESC:Events for 
REFRESH-INTERVAL;VALUE=DURATION:PT1H
X-Robots-Tag:noindex
X-PUBLISHED-TTL:PT1H
BEGIN:VTIMEZONE
TZID:Europe/London
BEGIN:DAYLIGHT
TZOFFSETFROM:+0000
TZOFFSETTO:+0100
TZNAME:BST
DTSTART:20240331T010000
END:DAYLIGHT
BEGIN:STANDARD
TZOFFSETFROM:+0100
TZOFFSETTO:+0000
TZNAME:GMT
DTSTART:20241027T010000
END:STANDARD
BEGIN:DAYLIGHT
TZOFFSETFROM:+0000
TZOFFSETTO:+0100
TZNAME:BST
DTSTART:20250330T010000
END:DAYLIGHT
BEGIN:STANDARD
TZOFFSETFROM:+0100
TZOFFSETTO:+0000
TZNAME:GMT
DTSTART:20251026T010000
END:STANDARD
BEGIN:DAYLIGHT
TZOFFSETFROM:+0000
TZOFFSETTO:+0100
TZNAME:BST
DTSTART:20260329T010000
END:DAYLIGHT
BEGIN:STANDARD
TZOFFSETFROM:+0100
TZOFFSETTO:+0000
TZNAME:GMT
DTSTART:20261025T010000
END:STANDARD
END:VTIMEZONE
BEGIN:VEVENT
DTSTART;TZID=Europe/London:20250904T103000
DTEND;TZID=Europe/London:20250904T120000
DTSTAMP:20260422T162320
CREATED:20250901T185919Z
LAST-MODIFIED:20250901T185919Z
UID:727-1756981800-1756987200@www.pembrokeshiremotorcycleclub.co.uk
SUMMARY:Scolton Manor Breakfast Meeting
DESCRIPTION:You need to be logged in to view this content. Please Log In. Not a Member? Join Us
URL:https://www.pembrokeshiremotorcycleclub.co.uk/event/scolton-manor-breakfast-meeting-34/
LOCATION:Scolton Manor\, Bethlehem\, Haverfordwest\, Pembrokeshire\, SA62 5QL\, United Kingdom
END:VEVENT
BEGIN:VEVENT
DTSTART;TZID=Europe/London:20250911T103000
DTEND;TZID=Europe/London:20250911T120000
DTSTAMP:20260422T162320
CREATED:20250901T191124Z
LAST-MODIFIED:20250901T191124Z
UID:735-1757586600-1757592000@www.pembrokeshiremotorcycleclub.co.uk
SUMMARY:Cosheston Breakfast Meeting
DESCRIPTION:You need to be logged in to view this content. Please Log In. Not a Member? Join Us
URL:https://www.pembrokeshiremotorcycleclub.co.uk/event/cosheston-breakfast-meeting-19/
LOCATION:Cosheston Garden Centre\, A40 Cosheston\, Cosheston\, Pembrokeshire\, SA72 4UJ\, United Kingdom
END:VEVENT
BEGIN:VEVENT
DTSTART;TZID=Europe/London:20250918T103000
DTEND;TZID=Europe/London:20250918T120000
DTSTAMP:20260422T162320
CREATED:20250901T190519Z
LAST-MODIFIED:20250901T190519Z
UID:729-1758191400-1758196800@www.pembrokeshiremotorcycleclub.co.uk
SUMMARY:Scolton Manor Breakfast Meeting
DESCRIPTION:You need to be logged in to view this content. Please Log In. Not a Member? Join Us
URL:https://www.pembrokeshiremotorcycleclub.co.uk/event/scolton-manor-breakfast-meeting-35/
LOCATION:Scolton Manor\, Bethlehem\, Haverfordwest\, Pembrokeshire\, SA62 5QL\, United Kingdom
END:VEVENT
BEGIN:VEVENT
DTSTART;TZID=Europe/London:20250925T103000
DTEND;TZID=Europe/London:20250925T120000
DTSTAMP:20260422T162320
CREATED:20250901T191321Z
LAST-MODIFIED:20250922T095648Z
UID:737-1758796200-1758801600@www.pembrokeshiremotorcycleclub.co.uk
SUMMARY:Victoria Inn Breakfast Meeting
DESCRIPTION:You need to be logged in to view this content. Please Log In. Not a Member? Join Us
URL:https://www.pembrokeshiremotorcycleclub.co.uk/event/victoria-inn-breakfast-meeting-6/
LOCATION:Victoria Inn\, Victoria Inn\, Roch\, Pembrokeshire\, SA62 6AW\, United Kingdom
END:VEVENT
END:VCALENDAR