BEGIN:VCALENDAR
VERSION:2.0
PRODID:-// - ECPv6.15.20//NONSGML v1.0//EN
CALSCALE:GREGORIAN
METHOD:PUBLISH
X-ORIGINAL-URL:https://www.pembrokeshiremotorcycleclub.co.uk
X-WR-CALDESC:Events for 
REFRESH-INTERVAL;VALUE=DURATION:PT1H
X-Robots-Tag:noindex
X-PUBLISHED-TTL:PT1H
BEGIN:VTIMEZONE
TZID:Europe/London
BEGIN:DAYLIGHT
TZOFFSETFROM:+0000
TZOFFSETTO:+0100
TZNAME:BST
DTSTART:20240331T010000
END:DAYLIGHT
BEGIN:STANDARD
TZOFFSETFROM:+0100
TZOFFSETTO:+0000
TZNAME:GMT
DTSTART:20241027T010000
END:STANDARD
BEGIN:DAYLIGHT
TZOFFSETFROM:+0000
TZOFFSETTO:+0100
TZNAME:BST
DTSTART:20250330T010000
END:DAYLIGHT
BEGIN:STANDARD
TZOFFSETFROM:+0100
TZOFFSETTO:+0000
TZNAME:GMT
DTSTART:20251026T010000
END:STANDARD
BEGIN:DAYLIGHT
TZOFFSETFROM:+0000
TZOFFSETTO:+0100
TZNAME:BST
DTSTART:20260329T010000
END:DAYLIGHT
BEGIN:STANDARD
TZOFFSETFROM:+0100
TZOFFSETTO:+0000
TZNAME:GMT
DTSTART:20261025T010000
END:STANDARD
END:VTIMEZONE
BEGIN:VEVENT
DTSTART;TZID=Europe/London:20251002T103000
DTEND;TZID=Europe/London:20251002T120000
DTSTAMP:20260422T150727
CREATED:20250901T190736Z
LAST-MODIFIED:20250901T190736Z
UID:731-1759401000-1759406400@www.pembrokeshiremotorcycleclub.co.uk
SUMMARY:Scolton Manor Breakfast Meeting
DESCRIPTION:You need to be logged in to view this content. Please Log In. Not a Member? Join Us
URL:https://www.pembrokeshiremotorcycleclub.co.uk/event/scolton-manor-breakfast-meeting-36/
LOCATION:Scolton Manor\, Bethlehem\, Haverfordwest\, Pembrokeshire\, SA62 5QL\, United Kingdom
END:VEVENT
BEGIN:VEVENT
DTSTART;TZID=Europe/London:20251009T103000
DTEND;TZID=Europe/London:20251009T120000
DTSTAMP:20260422T150727
CREATED:20250901T191702Z
LAST-MODIFIED:20250901T191702Z
UID:741-1760005800-1760011200@www.pembrokeshiremotorcycleclub.co.uk
SUMMARY:Cosheston Breakfast Meeting
DESCRIPTION:You need to be logged in to view this content. Please Log In. Not a Member? Join Us
URL:https://www.pembrokeshiremotorcycleclub.co.uk/event/cosheston-breakfast-meeting-20/
LOCATION:Cosheston Garden Centre\, A40 Cosheston\, Cosheston\, Pembrokeshire\, SA72 4UJ\, United Kingdom
END:VEVENT
BEGIN:VEVENT
DTSTART;TZID=Europe/London:20251014T193000
DTEND;TZID=Europe/London:20251014T210000
DTSTAMP:20260422T150727
CREATED:20251007T123503Z
LAST-MODIFIED:20251007T123503Z
UID:753-1760470200-1760475600@www.pembrokeshiremotorcycleclub.co.uk
SUMMARY:PCVMC Monthly Meeting
DESCRIPTION:You need to be logged in to view this content. Please Log In. Not a Member? Join Us
URL:https://www.pembrokeshiremotorcycleclub.co.uk/event/pcvmc-monthly-meeting/
LOCATION:Haverfordwest Cricket Club\, Dale Road\, Haverfordwest\, Pembrokeshire\, SA61 1HZ\, United Kingdom
END:VEVENT
BEGIN:VEVENT
DTSTART;TZID=Europe/London:20251016T080000
DTEND;TZID=Europe/London:20251016T170000
DTSTAMP:20260422T150727
CREATED:20250901T190941Z
LAST-MODIFIED:20250901T190941Z
UID:733-1760601600-1760634000@www.pembrokeshiremotorcycleclub.co.uk
SUMMARY:Scolton Manor Breakfast Meeting
DESCRIPTION:You need to be logged in to view this content. Please Log In. Not a Member? Join Us
URL:https://www.pembrokeshiremotorcycleclub.co.uk/event/scolton-manor-breakfast-meeting-37/
LOCATION:Scolton Manor\, Bethlehem\, Haverfordwest\, Pembrokeshire\, SA62 5QL\, United Kingdom
END:VEVENT
BEGIN:VEVENT
DTSTART;TZID=Europe/London:20251023T103000
DTEND;TZID=Europe/London:20251023T120000
DTSTAMP:20260422T150727
CREATED:20250901T191548Z
LAST-MODIFIED:20250901T191548Z
UID:739-1761215400-1761220800@www.pembrokeshiremotorcycleclub.co.uk
SUMMARY:Victoria Inn Breakfast Meeting
DESCRIPTION:You need to be logged in to view this content. Please Log In. Not a Member? Join Us
URL:https://www.pembrokeshiremotorcycleclub.co.uk/event/victoria-inn-breakfast-meeting-7/
LOCATION:Victoria Inn\, Victoria Inn\, Roch\, Pembrokeshire\, SA62 6AW\, United Kingdom
END:VEVENT
BEGIN:VEVENT
DTSTART;TZID=Europe/London:20251030T103000
DTEND;TZID=Europe/London:20251030T120000
DTSTAMP:20260422T150727
CREATED:20250116T173851Z
LAST-MODIFIED:20250116T191448Z
UID:535-1761820200-1761825600@www.pembrokeshiremotorcycleclub.co.uk
SUMMARY:Tafarn Sinc Breakfast Meeting
DESCRIPTION:You need to be logged in to view this content. Please Log In. Not a Member? Join Us
URL:https://www.pembrokeshiremotorcycleclub.co.uk/event/tafarn-sinc-2/
LOCATION:Tafarn Sinc\, Rosebush\, Maenclochog\, Clunderwen\, Pembrokeshire\, SA66 7QU\, United Kingdom
END:VEVENT
END:VCALENDAR