BEGIN:VCALENDAR
VERSION:2.0
PRODID:-// - ECPv6.15.20//NONSGML v1.0//EN
CALSCALE:GREGORIAN
METHOD:PUBLISH
X-ORIGINAL-URL:https://www.pembrokeshiremotorcycleclub.co.uk
X-WR-CALDESC:Events for 
REFRESH-INTERVAL;VALUE=DURATION:PT1H
X-Robots-Tag:noindex
X-PUBLISHED-TTL:PT1H
BEGIN:VTIMEZONE
TZID:Europe/London
BEGIN:DAYLIGHT
TZOFFSETFROM:+0000
TZOFFSETTO:+0100
TZNAME:BST
DTSTART:20240331T010000
END:DAYLIGHT
BEGIN:STANDARD
TZOFFSETFROM:+0100
TZOFFSETTO:+0000
TZNAME:GMT
DTSTART:20241027T010000
END:STANDARD
BEGIN:DAYLIGHT
TZOFFSETFROM:+0000
TZOFFSETTO:+0100
TZNAME:BST
DTSTART:20250330T010000
END:DAYLIGHT
BEGIN:STANDARD
TZOFFSETFROM:+0100
TZOFFSETTO:+0000
TZNAME:GMT
DTSTART:20251026T010000
END:STANDARD
BEGIN:DAYLIGHT
TZOFFSETFROM:+0000
TZOFFSETTO:+0100
TZNAME:BST
DTSTART:20260329T010000
END:DAYLIGHT
BEGIN:STANDARD
TZOFFSETFROM:+0100
TZOFFSETTO:+0000
TZNAME:GMT
DTSTART:20261025T010000
END:STANDARD
END:VTIMEZONE
BEGIN:VEVENT
DTSTART;TZID=Europe/London:20251204T103000
DTEND;TZID=Europe/London:20251204T120000
DTSTAMP:20260422T122009
CREATED:20251105T192419Z
LAST-MODIFIED:20251105T192419Z
UID:775-1764844200-1764849600@www.pembrokeshiremotorcycleclub.co.uk
SUMMARY:Scolton Manor Breakfast Meeting
DESCRIPTION:You need to be logged in to view this content. Please Log In. Not a Member? Join Us
URL:https://www.pembrokeshiremotorcycleclub.co.uk/event/scolton-manor-breakfast-meeting-40/
LOCATION:Scolton Manor\, Bethlehem\, Haverfordwest\, Pembrokeshire\, SA62 5QL\, United Kingdom
END:VEVENT
BEGIN:VEVENT
DTSTART;TZID=Europe/London:20251211T103000
DTEND;TZID=Europe/London:20251211T120000
DTSTAMP:20260422T122010
CREATED:20251105T192531Z
LAST-MODIFIED:20251105T192531Z
UID:777-1765449000-1765454400@www.pembrokeshiremotorcycleclub.co.uk
SUMMARY:Cosheston Breakfast Meeting
DESCRIPTION:You need to be logged in to view this content. Please Log In. Not a Member? Join Us
URL:https://www.pembrokeshiremotorcycleclub.co.uk/event/cosheston-breakfast-meeting-22/
LOCATION:Cosheston Garden Centre\, A40 Cosheston\, Cosheston\, Pembrokeshire\, SA72 4UJ\, United Kingdom
END:VEVENT
BEGIN:VEVENT
DTSTART;TZID=Europe/London:20251218T120000
DTEND;TZID=Europe/London:20251218T150000
DTSTAMP:20260422T122010
CREATED:20251023T160220Z
LAST-MODIFIED:20251023T160220Z
UID:767-1766059200-1766070000@www.pembrokeshiremotorcycleclub.co.uk
SUMMARY:Club Christmas Lunch
DESCRIPTION:You need to be logged in to view this content. Please Log In. Not a Member? Join Us
URL:https://www.pembrokeshiremotorcycleclub.co.uk/event/club-christmas-lunch/
LOCATION:Victoria Inn\, Victoria Inn\, Roch\, Pembrokeshire\, SA62 6AW\, United Kingdom
END:VEVENT
END:VCALENDAR